BEGIN:VCALENDAR
VERSION:2.0
PRODID:-//Northlight Theatre - ECPv6.9.1//NONSGML v1.0//EN
CALSCALE:GREGORIAN
METHOD:PUBLISH
X-WR-CALNAME:Northlight Theatre
X-ORIGINAL-URL:https://northlight.org
X-WR-CALDESC:Events for Northlight Theatre
REFRESH-INTERVAL;VALUE=DURATION:PT1H
X-Robots-Tag:noindex
X-PUBLISHED-TTL:PT1H
BEGIN:VTIMEZONE
TZID:America/Chicago
BEGIN:DAYLIGHT
TZOFFSETFROM:-0600
TZOFFSETTO:-0500
TZNAME:CDT
DTSTART:20260308T080000
END:DAYLIGHT
BEGIN:STANDARD
TZOFFSETFROM:-0500
TZOFFSETTO:-0600
TZNAME:CST
DTSTART:20261101T070000
END:STANDARD
END:VTIMEZONE
BEGIN:VEVENT
DTSTART;TZID=America/Chicago:20260503T143000
DTEND;TZID=America/Chicago:20260503T163000
DTSTAMP:20260423T041034
CREATED:20251223T175621Z
LAST-MODIFIED:20251223T182413Z
UID:10000417-1777818600-1777825800@northlight.org
SUMMARY:The Angel Next Door
DESCRIPTION:
URL:https://northlight.org/event/the-angel-next-door-25/
LOCATION:Northlight Theatre\, 9501 Skokie Boulevard\, Skokie\, IL\, 60077\, United States
CATEGORIES:First Lady of Television,Gaslight,Performance
END:VEVENT
BEGIN:VEVENT
DTSTART;TZID=America/Chicago:20260506T130000
DTEND;TZID=America/Chicago:20260506T150000
DTSTAMP:20260423T041034
CREATED:20251223T175645Z
LAST-MODIFIED:20251223T182439Z
UID:10000418-1778072400-1778079600@northlight.org
SUMMARY:The Angel Next Door
DESCRIPTION:
URL:https://northlight.org/event/the-angel-next-door-26/
LOCATION:Northlight Theatre\, 9501 Skokie Boulevard\, Skokie\, IL\, 60077\, United States
CATEGORIES:First Lady of Television,Gaslight,Performance
END:VEVENT
BEGIN:VEVENT
DTSTART;TZID=America/Chicago:20260506T193000
DTEND;TZID=America/Chicago:20260506T213000
DTSTAMP:20260423T041034
CREATED:20251223T175711Z
LAST-MODIFIED:20251223T182503Z
UID:10000419-1778095800-1778103000@northlight.org
SUMMARY:The Angel Next Door
DESCRIPTION:
URL:https://northlight.org/event/the-angel-next-door-27/
LOCATION:Northlight Theatre\, 9501 Skokie Boulevard\, Skokie\, IL\, 60077\, United States
CATEGORIES:First Lady of Television,Gaslight,Performance
END:VEVENT
BEGIN:VEVENT
DTSTART;TZID=America/Chicago:20260507T193000
DTEND;TZID=America/Chicago:20260507T213000
DTSTAMP:20260423T041034
CREATED:20251223T175736Z
LAST-MODIFIED:20251223T182530Z
UID:10000420-1778182200-1778189400@northlight.org
SUMMARY:The Angel Next Door
DESCRIPTION:
URL:https://northlight.org/event/the-angel-next-door-28/
LOCATION:Northlight Theatre\, 9501 Skokie Boulevard\, Skokie\, IL\, 60077\, United States
CATEGORIES:First Lady of Television,Gaslight,Performance
END:VEVENT
BEGIN:VEVENT
DTSTART;TZID=America/Chicago:20260508T193000
DTEND;TZID=America/Chicago:20260508T213000
DTSTAMP:20260423T041034
CREATED:20251223T175755Z
LAST-MODIFIED:20251223T182608Z
UID:10000421-1778268600-1778275800@northlight.org
SUMMARY:The Angel Next Door
DESCRIPTION:
URL:https://northlight.org/event/the-angel-next-door-29/
LOCATION:Northlight Theatre\, 9501 Skokie Boulevard\, Skokie\, IL\, 60077\, United States
CATEGORIES:First Lady of Television,Gaslight,Performance
END:VEVENT
BEGIN:VEVENT
DTSTART;TZID=America/Chicago:20260509T143000
DTEND;TZID=America/Chicago:20260509T163000
DTSTAMP:20260423T041034
CREATED:20251223T175836Z
LAST-MODIFIED:20251223T182647Z
UID:10000423-1778337000-1778344200@northlight.org
SUMMARY:The Angel Next Door
DESCRIPTION:
URL:https://northlight.org/event/the-angel-next-door-31/
LOCATION:Northlight Theatre\, 9501 Skokie Boulevard\, Skokie\, IL\, 60077\, United States
CATEGORIES:First Lady of Television,Gaslight,Performance
END:VEVENT
BEGIN:VEVENT
DTSTART;TZID=America/Chicago:20260509T193000
DTEND;TZID=America/Chicago:20260509T213000
DTSTAMP:20260423T041034
CREATED:20251223T175813Z
LAST-MODIFIED:20251223T182710Z
UID:10000422-1778355000-1778362200@northlight.org
SUMMARY:The Angel Next Door
DESCRIPTION:
URL:https://northlight.org/event/the-angel-next-door-30/
LOCATION:Northlight Theatre\, 9501 Skokie Boulevard\, Skokie\, IL\, 60077\, United States
CATEGORIES:First Lady of Television,Gaslight,Performance
END:VEVENT
BEGIN:VEVENT
DTSTART;TZID=America/Chicago:20260510T143000
DTEND;TZID=America/Chicago:20260510T163000
DTSTAMP:20260423T041034
CREATED:20251223T175851Z
LAST-MODIFIED:20251223T182728Z
UID:10000424-1778423400-1778430600@northlight.org
SUMMARY:The Angel Next Door
DESCRIPTION:
URL:https://northlight.org/event/the-angel-next-door-32/
LOCATION:Northlight Theatre\, 9501 Skokie Boulevard\, Skokie\, IL\, 60077\, United States
CATEGORIES:First Lady of Television,Gaslight,Performance
END:VEVENT
END:VCALENDAR