BEGIN:VCALENDAR
VERSION:2.0
PRODID:-//Northlight Theatre - ECPv6.9.1//NONSGML v1.0//EN
CALSCALE:GREGORIAN
METHOD:PUBLISH
X-WR-CALNAME:Northlight Theatre
X-ORIGINAL-URL:https://northlight.org
X-WR-CALDESC:Events for Northlight Theatre
REFRESH-INTERVAL;VALUE=DURATION:PT1H
X-Robots-Tag:noindex
X-PUBLISHED-TTL:PT1H
BEGIN:VTIMEZONE
TZID:America/Chicago
BEGIN:DAYLIGHT
TZOFFSETFROM:-0600
TZOFFSETTO:-0500
TZNAME:CDT
DTSTART:20240310T080000
END:DAYLIGHT
BEGIN:STANDARD
TZOFFSETFROM:-0500
TZOFFSETTO:-0600
TZNAME:CST
DTSTART:20241103T070000
END:STANDARD
BEGIN:DAYLIGHT
TZOFFSETFROM:-0600
TZOFFSETTO:-0500
TZNAME:CDT
DTSTART:20250309T080000
END:DAYLIGHT
BEGIN:STANDARD
TZOFFSETFROM:-0500
TZOFFSETTO:-0600
TZNAME:CST
DTSTART:20251102T070000
END:STANDARD
END:VTIMEZONE
BEGIN:VEVENT
DTSTART;TZID=America/Chicago:20241218T193000
DTEND;TZID=America/Chicago:20241218T213000
DTSTAMP:20260423T042332
CREATED:20240710T165212Z
LAST-MODIFIED:20240710T165212Z
UID:10000116-1734550200-1734557400@northlight.org
SUMMARY:Little Women 12-18
DESCRIPTION:
URL:https://northlight.org/event/little-women-12-18-2/
LOCATION:Northlight Theatre\, 9501 Skokie Boulevard\, Skokie\, IL\, 60077\, United States
CATEGORIES:Little Women,Performance
ATTACH;FMTTYPE=image/jpeg:https://northlight.org/app/uploads/NL_2425_1000x1000LW.jpg
END:VEVENT
BEGIN:VEVENT
DTSTART;TZID=America/Chicago:20241219T193000
DTEND;TZID=America/Chicago:20241219T213000
DTSTAMP:20260423T042332
CREATED:20240710T165308Z
LAST-MODIFIED:20240710T165750Z
UID:10000117-1734636600-1734643800@northlight.org
SUMMARY:Little Women 12-19
DESCRIPTION:
URL:https://northlight.org/event/little-women-12-19/
LOCATION:Northlight Theatre\, 9501 Skokie Boulevard\, Skokie\, IL\, 60077\, United States
CATEGORIES:Little Women,Performance
ATTACH;FMTTYPE=image/jpeg:https://northlight.org/app/uploads/NL_2425_1000x1000LW.jpg
END:VEVENT
BEGIN:VEVENT
DTSTART;TZID=America/Chicago:20241220T193000
DTEND;TZID=America/Chicago:20241220T213000
DTSTAMP:20260423T042332
CREATED:20240710T165838Z
LAST-MODIFIED:20240710T165838Z
UID:10000118-1734723000-1734730200@northlight.org
SUMMARY:Little Women 12-20
DESCRIPTION:
URL:https://northlight.org/event/little-women-12-20/
LOCATION:Northlight Theatre\, 9501 Skokie Boulevard\, Skokie\, IL\, 60077\, United States
CATEGORIES:Little Women,Performance
ATTACH;FMTTYPE=image/jpeg:https://northlight.org/app/uploads/NL_2425_1000x1000LW.jpg
END:VEVENT
BEGIN:VEVENT
DTSTART;TZID=America/Chicago:20241221T143000
DTEND;TZID=America/Chicago:20241221T163000
DTSTAMP:20260423T042332
CREATED:20240710T170037Z
LAST-MODIFIED:20240710T170037Z
UID:10000119-1734791400-1734798600@northlight.org
SUMMARY:Little Women 12-21
DESCRIPTION:
URL:https://northlight.org/event/little-women-12-21/
LOCATION:Northlight Theatre\, 9501 Skokie Boulevard\, Skokie\, IL\, 60077\, United States
CATEGORIES:Little Women,Performance
ATTACH;FMTTYPE=image/jpeg:https://northlight.org/app/uploads/NL_2425_1000x1000LW.jpg
END:VEVENT
BEGIN:VEVENT
DTSTART;TZID=America/Chicago:20241221T193000
DTEND;TZID=America/Chicago:20241221T213000
DTSTAMP:20260423T042332
CREATED:20240710T170218Z
LAST-MODIFIED:20240710T170218Z
UID:10000120-1734809400-1734816600@northlight.org
SUMMARY:Little Women 12-21
DESCRIPTION:
URL:https://northlight.org/event/little-women-12-21-2/
LOCATION:Northlight Theatre\, 9501 Skokie Boulevard\, Skokie\, IL\, 60077\, United States
CATEGORIES:Little Women,Performance
ATTACH;FMTTYPE=image/jpeg:https://northlight.org/app/uploads/NL_2425_1000x1000LW.jpg
END:VEVENT
BEGIN:VEVENT
DTSTART;TZID=America/Chicago:20241222T143000
DTEND;TZID=America/Chicago:20241222T163000
DTSTAMP:20260423T042332
CREATED:20240710T170324Z
LAST-MODIFIED:20240710T170324Z
UID:10000121-1734877800-1734885000@northlight.org
SUMMARY:Little Women 12-22
DESCRIPTION:
URL:https://northlight.org/event/little-women-12-22/
LOCATION:Northlight Theatre\, 9501 Skokie Boulevard\, Skokie\, IL\, 60077\, United States
CATEGORIES:Little Women,Performance
ATTACH;FMTTYPE=image/jpeg:https://northlight.org/app/uploads/NL_2425_1000x1000LW.jpg
END:VEVENT
BEGIN:VEVENT
DTSTART;TZID=America/Chicago:20241226T130000
DTEND;TZID=America/Chicago:20241226T150000
DTSTAMP:20260423T042332
CREATED:20240710T170427Z
LAST-MODIFIED:20240710T170427Z
UID:10000122-1735218000-1735225200@northlight.org
SUMMARY:Little Women 12-26
DESCRIPTION:
URL:https://northlight.org/event/little-women-12-26/
LOCATION:Northlight Theatre\, 9501 Skokie Boulevard\, Skokie\, IL\, 60077\, United States
CATEGORIES:Little Women,Performance
ATTACH;FMTTYPE=image/jpeg:https://northlight.org/app/uploads/NL_2425_1000x1000LW.jpg
END:VEVENT
BEGIN:VEVENT
DTSTART;TZID=America/Chicago:20241226T193000
DTEND;TZID=America/Chicago:20241226T213000
DTSTAMP:20260423T042332
CREATED:20240710T170509Z
LAST-MODIFIED:20240710T170509Z
UID:10000123-1735241400-1735248600@northlight.org
SUMMARY:Little Women 12-26
DESCRIPTION:
URL:https://northlight.org/event/little-women-12-26-2/
LOCATION:Northlight Theatre\, 9501 Skokie Boulevard\, Skokie\, IL\, 60077\, United States
CATEGORIES:Little Women,Performance
ATTACH;FMTTYPE=image/jpeg:https://northlight.org/app/uploads/NL_2425_1000x1000LW.jpg
END:VEVENT
BEGIN:VEVENT
DTSTART;TZID=America/Chicago:20241227T193000
DTEND;TZID=America/Chicago:20241227T213000
DTSTAMP:20260423T042332
CREATED:20240710T170554Z
LAST-MODIFIED:20240710T170554Z
UID:10000124-1735327800-1735335000@northlight.org
SUMMARY:Little Women 12-27
DESCRIPTION:
URL:https://northlight.org/event/little-women-12-27/
LOCATION:Northlight Theatre\, 9501 Skokie Boulevard\, Skokie\, IL\, 60077\, United States
CATEGORIES:Little Women,Performance
ATTACH;FMTTYPE=image/jpeg:https://northlight.org/app/uploads/NL_2425_1000x1000LW.jpg
END:VEVENT
BEGIN:VEVENT
DTSTART;TZID=America/Chicago:20241228T143000
DTEND;TZID=America/Chicago:20241228T163000
DTSTAMP:20260423T042332
CREATED:20240710T170704Z
LAST-MODIFIED:20240710T170704Z
UID:10000125-1735396200-1735403400@northlight.org
SUMMARY:Little Women 12-28
DESCRIPTION:
URL:https://northlight.org/event/little-women-12-28/
LOCATION:Northlight Theatre\, 9501 Skokie Boulevard\, Skokie\, IL\, 60077\, United States
CATEGORIES:Little Women,Performance
ATTACH;FMTTYPE=image/jpeg:https://northlight.org/app/uploads/NL_2425_1000x1000LW.jpg
END:VEVENT
BEGIN:VEVENT
DTSTART;TZID=America/Chicago:20241228T193000
DTEND;TZID=America/Chicago:20241228T213000
DTSTAMP:20260423T042332
CREATED:20240710T170754Z
LAST-MODIFIED:20240710T170754Z
UID:10000126-1735414200-1735421400@northlight.org
SUMMARY:Little Women 12-28
DESCRIPTION:
URL:https://northlight.org/event/little-women-12-28-2/
LOCATION:Northlight Theatre\, 9501 Skokie Boulevard\, Skokie\, IL\, 60077\, United States
CATEGORIES:Little Women,Performance
ATTACH;FMTTYPE=image/jpeg:https://northlight.org/app/uploads/NL_2425_1000x1000LW.jpg
END:VEVENT
BEGIN:VEVENT
DTSTART;TZID=America/Chicago:20241229T143000
DTEND;TZID=America/Chicago:20241229T163000
DTSTAMP:20260423T042332
CREATED:20240710T170848Z
LAST-MODIFIED:20240710T170926Z
UID:10000127-1735482600-1735489800@northlight.org
SUMMARY:Little Women 12-29
DESCRIPTION:
URL:https://northlight.org/event/little-women-12-29/
LOCATION:Northlight Theatre\, 9501 Skokie Boulevard\, Skokie\, IL\, 60077\, United States
CATEGORIES:Little Women,Performance
ATTACH;FMTTYPE=image/jpeg:https://northlight.org/app/uploads/NL_2425_1000x1000LW.jpg
END:VEVENT
BEGIN:VEVENT
DTSTART;TZID=America/Chicago:20241229T193000
DTEND;TZID=America/Chicago:20241229T213000
DTSTAMP:20260423T042332
CREATED:20240710T171022Z
LAST-MODIFIED:20240710T171022Z
UID:10000128-1735500600-1735507800@northlight.org
SUMMARY:Little Women 12-29
DESCRIPTION:
URL:https://northlight.org/event/little-women-12-29-2/
LOCATION:Northlight Theatre\, 9501 Skokie Boulevard\, Skokie\, IL\, 60077\, United States
CATEGORIES:Little Women,Performance
ATTACH;FMTTYPE=image/jpeg:https://northlight.org/app/uploads/NL_2425_1000x1000LW.jpg
END:VEVENT
BEGIN:VEVENT
DTSTART;TZID=America/Chicago:20250102T193000
DTEND;TZID=America/Chicago:20250102T213000
DTSTAMP:20260423T042332
CREATED:20240911T145736Z
LAST-MODIFIED:20240911T145736Z
UID:10000162-1735846200-1735853400@northlight.org
SUMMARY:Little Women 1-2
DESCRIPTION:
URL:https://northlight.org/event/little-women-1-2/
LOCATION:Northlight Theatre\, 9501 Skokie Boulevard\, Skokie\, IL\, 60077\, United States
CATEGORIES:Little Women,Performance
ATTACH;FMTTYPE=image/jpeg:https://northlight.org/app/uploads/NL_2425_1000x1000LW.jpg
END:VEVENT
BEGIN:VEVENT
DTSTART;TZID=America/Chicago:20250103T193000
DTEND;TZID=America/Chicago:20250103T213000
DTSTAMP:20260423T042332
CREATED:20240911T150215Z
LAST-MODIFIED:20240911T150645Z
UID:10000163-1735932600-1735939800@northlight.org
SUMMARY:Little Women 1-3
DESCRIPTION:
URL:https://northlight.org/event/little-women-1-3/
LOCATION:Northlight Theatre\, 9501 Skokie Boulevard\, Skokie\, IL\, 60077\, United States
CATEGORIES:Little Women,Performance
ATTACH;FMTTYPE=image/jpeg:https://northlight.org/app/uploads/NL_2425_1000x1000LW.jpg
END:VEVENT
BEGIN:VEVENT
DTSTART;TZID=America/Chicago:20250104T143000
DTEND;TZID=America/Chicago:20250104T163000
DTSTAMP:20260423T042332
CREATED:20240911T150304Z
LAST-MODIFIED:20240911T150558Z
UID:10000164-1736001000-1736008200@northlight.org
SUMMARY:Little Women 1-4
DESCRIPTION:
URL:https://northlight.org/event/little-women-1-4/
LOCATION:Northlight Theatre\, 9501 Skokie Boulevard\, Skokie\, IL\, 60077\, United States
CATEGORIES:Little Women,Performance
ATTACH;FMTTYPE=image/jpeg:https://northlight.org/app/uploads/NL_2425_1000x1000LW.jpg
END:VEVENT
BEGIN:VEVENT
DTSTART;TZID=America/Chicago:20250104T143000
DTEND;TZID=America/Chicago:20250104T163000
DTSTAMP:20260423T042332
CREATED:20240911T150356Z
LAST-MODIFIED:20240911T150619Z
UID:10000165-1736001000-1736008200@northlight.org
SUMMARY:Little Women 1-4
DESCRIPTION:
URL:https://northlight.org/event/little-women-1-4-2/
LOCATION:Northlight Theatre\, 9501 Skokie Boulevard\, Skokie\, IL\, 60077\, United States
CATEGORIES:Little Women,Performance
ATTACH;FMTTYPE=image/jpeg:https://northlight.org/app/uploads/NL_2425_1000x1000LW.jpg
END:VEVENT
BEGIN:VEVENT
DTSTART;TZID=America/Chicago:20250105T143000
DTEND;TZID=America/Chicago:20250105T163000
DTSTAMP:20260423T042332
CREATED:20240911T150444Z
LAST-MODIFIED:20240911T150633Z
UID:10000166-1736087400-1736094600@northlight.org
SUMMARY:Little Women 1-5
DESCRIPTION:
URL:https://northlight.org/event/little-women-1-5/
LOCATION:Northlight Theatre\, 9501 Skokie Boulevard\, Skokie\, IL\, 60077\, United States
CATEGORIES:Little Women,Performance
ATTACH;FMTTYPE=image/jpeg:https://northlight.org/app/uploads/NL_2425_1000x1000LW.jpg
END:VEVENT
BEGIN:VEVENT
DTSTART;TZID=America/Chicago:20250123T193000
DTEND;TZID=America/Chicago:20250123T210000
DTSTAMP:20260423T042332
CREATED:20241204T163310Z
LAST-MODIFIED:20241204T163310Z
UID:10000200-1737660600-1737666000@northlight.org
SUMMARY:The Heart Sellers
DESCRIPTION:
URL:https://northlight.org/event/the-heart-sellers-1-23/
LOCATION:Northlight Theatre\, 9501 Skokie Boulevard\, Skokie\, IL\, 60077\, United States
CATEGORIES:Performance,The Heart Sellers
ATTACH;FMTTYPE=image/jpeg:https://northlight.org/app/uploads/NL_2425_1000x1000HS.jpg
END:VEVENT
BEGIN:VEVENT
DTSTART;TZID=America/Chicago:20250124T193000
DTEND;TZID=America/Chicago:20250124T210000
DTSTAMP:20260423T042332
CREATED:20241204T163635Z
LAST-MODIFIED:20241204T163635Z
UID:10000201-1737747000-1737752400@northlight.org
SUMMARY:The Heart Sellers
DESCRIPTION:
URL:https://northlight.org/event/the-heart-sellers-1-24/
LOCATION:Northlight Theatre\, 9501 Skokie Boulevard\, Skokie\, IL\, 60077\, United States
CATEGORIES:Performance,The Heart Sellers
ATTACH;FMTTYPE=image/jpeg:https://northlight.org/app/uploads/NL_2425_1000x1000HS.jpg
END:VEVENT
BEGIN:VEVENT
DTSTART;TZID=America/Chicago:20250125T193000
DTEND;TZID=America/Chicago:20250125T210000
DTSTAMP:20260423T042332
CREATED:20241204T163746Z
LAST-MODIFIED:20241204T163746Z
UID:10000202-1737833400-1737838800@northlight.org
SUMMARY:The Heart Sellers
DESCRIPTION:
URL:https://northlight.org/event/the-heart-sellers-1-25/
LOCATION:Northlight Theatre\, 9501 Skokie Boulevard\, Skokie\, IL\, 60077\, United States
CATEGORIES:Performance,The Heart Sellers
ATTACH;FMTTYPE=image/jpeg:https://northlight.org/app/uploads/NL_2425_1000x1000HS.jpg
END:VEVENT
BEGIN:VEVENT
DTSTART;TZID=America/Chicago:20250126T143000
DTEND;TZID=America/Chicago:20250126T160000
DTSTAMP:20260423T042332
CREATED:20241204T163902Z
LAST-MODIFIED:20241204T163902Z
UID:10000203-1737901800-1737907200@northlight.org
SUMMARY:The Heart Sellers
DESCRIPTION:
URL:https://northlight.org/event/the-heart-sellers-1-26/
LOCATION:Northlight Theatre\, 9501 Skokie Boulevard\, Skokie\, IL\, 60077\, United States
CATEGORIES:Performance,The Heart Sellers
ATTACH;FMTTYPE=image/jpeg:https://northlight.org/app/uploads/NL_2425_1000x1000HS.jpg
END:VEVENT
BEGIN:VEVENT
DTSTART;TZID=America/Chicago:20250126T193000
DTEND;TZID=America/Chicago:20250126T210000
DTSTAMP:20260423T042332
CREATED:20241204T163946Z
LAST-MODIFIED:20241204T163946Z
UID:10000204-1737919800-1737925200@northlight.org
SUMMARY:The Heart Sellers
DESCRIPTION:
URL:https://northlight.org/event/the-heart-sellers-1-26-2/
LOCATION:Northlight Theatre\, 9501 Skokie Boulevard\, Skokie\, IL\, 60077\, United States
CATEGORIES:Performance,The Heart Sellers
ATTACH;FMTTYPE=image/jpeg:https://northlight.org/app/uploads/NL_2425_1000x1000HS.jpg
END:VEVENT
BEGIN:VEVENT
DTSTART;TZID=America/Chicago:20250128T193000
DTEND;TZID=America/Chicago:20250128T210000
DTSTAMP:20260423T042332
CREATED:20241204T164104Z
LAST-MODIFIED:20241204T164125Z
UID:10000205-1738092600-1738098000@northlight.org
SUMMARY:The Heart Sellers
DESCRIPTION:
URL:https://northlight.org/event/the-heart-sellers-1-28/
LOCATION:Northlight Theatre\, 9501 Skokie Boulevard\, Skokie\, IL\, 60077\, United States
CATEGORIES:Performance,The Heart Sellers
ATTACH;FMTTYPE=image/jpeg:https://northlight.org/app/uploads/NL_2425_1000x1000HS.jpg
END:VEVENT
BEGIN:VEVENT
DTSTART;TZID=America/Chicago:20250129T130000
DTEND;TZID=America/Chicago:20250129T143000
DTSTAMP:20260423T042332
CREATED:20241204T164246Z
LAST-MODIFIED:20241204T164246Z
UID:10000206-1738155600-1738161000@northlight.org
SUMMARY:The Heart Sellers
DESCRIPTION:
URL:https://northlight.org/event/the-heart-sellers-1-29/
LOCATION:Northlight Theatre\, 9501 Skokie Boulevard\, Skokie\, IL\, 60077\, United States
CATEGORIES:Performance,The Heart Sellers
ATTACH;FMTTYPE=image/jpeg:https://northlight.org/app/uploads/NL_2425_1000x1000HS.jpg
END:VEVENT
BEGIN:VEVENT
DTSTART;TZID=America/Chicago:20250129T193000
DTEND;TZID=America/Chicago:20250129T210000
DTSTAMP:20260423T042332
CREATED:20241204T164403Z
LAST-MODIFIED:20241204T164403Z
UID:10000207-1738179000-1738184400@northlight.org
SUMMARY:The Heart Sellers
DESCRIPTION:
URL:https://northlight.org/event/the-heart-sellers-1-29-2/
LOCATION:Northlight Theatre\, 9501 Skokie Boulevard\, Skokie\, IL\, 60077\, United States
CATEGORIES:Performance,The Heart Sellers
ATTACH;FMTTYPE=image/jpeg:https://northlight.org/app/uploads/NL_2425_1000x1000HS.jpg
END:VEVENT
BEGIN:VEVENT
DTSTART;TZID=America/Chicago:20250131T193000
DTEND;TZID=America/Chicago:20250131T210000
DTSTAMP:20260423T042332
CREATED:20241204T164511Z
LAST-MODIFIED:20241204T164511Z
UID:10000208-1738351800-1738357200@northlight.org
SUMMARY:The Heart Sellers
DESCRIPTION:
URL:https://northlight.org/event/the-heart-sellers-1-31/
LOCATION:Northlight Theatre\, 9501 Skokie Boulevard\, Skokie\, IL\, 60077\, United States
CATEGORIES:Performance,The Heart Sellers
ATTACH;FMTTYPE=image/jpeg:https://northlight.org/app/uploads/NL_2425_1000x1000HS.jpg
END:VEVENT
BEGIN:VEVENT
DTSTART;TZID=America/Chicago:20250201T143000
DTEND;TZID=America/Chicago:20250201T160000
DTSTAMP:20260423T042332
CREATED:20241204T164638Z
LAST-MODIFIED:20241204T164638Z
UID:10000209-1738420200-1738425600@northlight.org
SUMMARY:The Heart Sellers
DESCRIPTION:
URL:https://northlight.org/event/the-heart-sellers-2-1/
LOCATION:Northlight Theatre\, 9501 Skokie Boulevard\, Skokie\, IL\, 60077\, United States
CATEGORIES:Performance,The Heart Sellers
ATTACH;FMTTYPE=image/jpeg:https://northlight.org/app/uploads/NL_2425_1000x1000HS.jpg
END:VEVENT
BEGIN:VEVENT
DTSTART;TZID=America/Chicago:20250201T193000
DTEND;TZID=America/Chicago:20250201T210000
DTSTAMP:20260423T042332
CREATED:20241204T165243Z
LAST-MODIFIED:20241204T165243Z
UID:10000210-1738438200-1738443600@northlight.org
SUMMARY:The Heart Sellers
DESCRIPTION:
URL:https://northlight.org/event/the-heart-sellers-2-1-2/
LOCATION:Northlight Theatre\, 9501 Skokie Boulevard\, Skokie\, IL\, 60077\, United States
CATEGORIES:Performance,The Heart Sellers
ATTACH;FMTTYPE=image/jpeg:https://northlight.org/app/uploads/NL_2425_1000x1000HS.jpg
END:VEVENT
BEGIN:VEVENT
DTSTART;TZID=America/Chicago:20250202T143000
DTEND;TZID=America/Chicago:20250202T160000
DTSTAMP:20260423T042332
CREATED:20241204T165428Z
LAST-MODIFIED:20241204T165428Z
UID:10000211-1738506600-1738512000@northlight.org
SUMMARY:The Heart Sellers
DESCRIPTION:
URL:https://northlight.org/event/the-heart-sellers-2-2/
LOCATION:Northlight Theatre\, 9501 Skokie Boulevard\, Skokie\, IL\, 60077\, United States
CATEGORIES:Performance,The Heart Sellers
ATTACH;FMTTYPE=image/jpeg:https://northlight.org/app/uploads/NL_2425_1000x1000HS.jpg
END:VEVENT
END:VCALENDAR